BEGIN:VCALENDAR
VERSION:2.0
PRODID:-//Bountiful Blossom - ECPv6.15.20//NONSGML v1.0//EN
CALSCALE:GREGORIAN
METHOD:PUBLISH
X-WR-CALNAME:Bountiful Blossom
X-ORIGINAL-URL:https://web.bountifulblossom.org
X-WR-CALDESC:Events for Bountiful Blossom
REFRESH-INTERVAL;VALUE=DURATION:PT1H
X-Robots-Tag:noindex
X-PUBLISHED-TTL:PT1H
BEGIN:VTIMEZONE
TZID:America/Los_Angeles
BEGIN:DAYLIGHT
TZOFFSETFROM:-0800
TZOFFSETTO:-0700
TZNAME:PDT
DTSTART:20240310T100000
END:DAYLIGHT
BEGIN:STANDARD
TZOFFSETFROM:-0700
TZOFFSETTO:-0800
TZNAME:PST
DTSTART:20241103T090000
END:STANDARD
BEGIN:DAYLIGHT
TZOFFSETFROM:-0800
TZOFFSETTO:-0700
TZNAME:PDT
DTSTART:20250309T100000
END:DAYLIGHT
BEGIN:STANDARD
TZOFFSETFROM:-0700
TZOFFSETTO:-0800
TZNAME:PST
DTSTART:20251102T090000
END:STANDARD
BEGIN:DAYLIGHT
TZOFFSETFROM:-0800
TZOFFSETTO:-0700
TZNAME:PDT
DTSTART:20260308T100000
END:DAYLIGHT
BEGIN:STANDARD
TZOFFSETFROM:-0700
TZOFFSETTO:-0800
TZNAME:PST
DTSTART:20261101T090000
END:STANDARD
BEGIN:DAYLIGHT
TZOFFSETFROM:-0800
TZOFFSETTO:-0700
TZNAME:PDT
DTSTART:20270314T100000
END:DAYLIGHT
BEGIN:STANDARD
TZOFFSETFROM:-0700
TZOFFSETTO:-0800
TZNAME:PST
DTSTART:20271107T090000
END:STANDARD
END:VTIMEZONE
BEGIN:VEVENT
DTSTART;TZID=America/Los_Angeles:20251213T143000
DTEND;TZID=America/Los_Angeles:20251213T160000
DTSTAMP:20260420T223047
CREATED:20251029T013155Z
LAST-MODIFIED:20251106T052158Z
UID:861-1765636200-1765641600@web.bountifulblossom.org
SUMMARY:How to deal with  my child's behavior
DESCRIPTION:
URL:https://web.bountifulblossom.org/event/mandarin-forum-with-4c-provider/
LOCATION:Online
ORGANIZER;CN="Bountiful Blossom":MAILTO:outreach@bountifulblossom.org
END:VEVENT
BEGIN:VEVENT
DTSTART;TZID=America/Los_Angeles:20251214T140000
DTEND;TZID=America/Los_Angeles:20251214T160000
DTSTAMP:20260420T223047
CREATED:20251027T015132Z
LAST-MODIFIED:20251027T015833Z
UID:542-1765720800-1765728000@web.bountifulblossom.org
SUMMARY:Community Circle
DESCRIPTION:What Is the Community Circle?\nThe Community Circle by Bountiful Blossom\, in collaboration with the Fremont Main Library\, is a warm and inclusive gathering for families and individuals in the disability and inclusion community. Together\, we create a welcoming space where people of all ages and abilities can create\, learn\, and connect through joyful\, hands-on experiences. \nEach month\, our sessions feature arts and crafts projects\, sensory play\, and board game and circle time that bring smiles and creativity to everyone involved. Some of our past activities include: \nThrough this partnership\, our goal is to provide a safe\, inclusive\, and sensory-friendly environment where participants can express themselves\, build confidence\, and enjoy meaningful social connections. Every session is free of charge and open to all families and individuals who wish to be part of a caring community. \nJoin us at the Community Circle — where creativity blossoms\, friendships grow\, and everyone belongs. 🌼 \n 
URL:https://web.bountifulblossom.org/event/community-circle-3/
LOCATION:Fremont Main Library – Fukaya Room B\, 2400 Stevenson Blvd\,\, Fremont\, CA\, 94538\, United States
CATEGORIES:Community Circle
ORGANIZER;CN="Bountiful Blossom":MAILTO:outreach@bountifulblossom.org
END:VEVENT
BEGIN:VEVENT
DTSTART;TZID=America/Los_Angeles:20260111T140000
DTEND;TZID=America/Los_Angeles:20260111T160000
DTSTAMP:20260420T223047
CREATED:20251026T235002Z
LAST-MODIFIED:20251208T031822Z
UID:525-1768140000-1768147200@web.bountifulblossom.org
SUMMARY:Community Circle
DESCRIPTION:What Is the Community Circle?\nThe Community Circle by Bountiful Blossom\, in collaboration with the Fremont Main Library\, is a warm and inclusive gathering for families and individuals in the disability and inclusion community. Together\, we create a welcoming space where people of all ages and abilities can create\, learn\, and connect through joyful\, hands-on experiences. \nEach month\, our sessions feature arts and crafts projects\, sensory play\, and board game and circle time that bring smiles and creativity to everyone involved. Some of our past activities include: \nThrough this partnership\, our goal is to provide a safe\, inclusive\, and sensory-friendly environment where participants can express themselves\, build confidence\, and enjoy meaningful social connections. Every session is free of charge and open to all families and individuals who wish to be part of a caring community. \nJoin us at the Community Circle — where creativity blossoms\, friendships grow\, and everyone belongs. 🌼 \n 
URL:https://web.bountifulblossom.org/event/community-circle/
LOCATION:Fremont Main Library – Fukaya Room B\, 2400 Stevenson Blvd\,\, Fremont\, CA\, 94538\, United States
CATEGORIES:Community Circle
ORGANIZER;CN="Bountiful Blossom":MAILTO:outreach@bountifulblossom.org
END:VEVENT
BEGIN:VEVENT
DTSTART;TZID=America/Los_Angeles:20260201T140000
DTEND;TZID=America/Los_Angeles:20260201T160000
DTSTAMP:20260420T223047
CREATED:20251027T021335Z
LAST-MODIFIED:20251208T031908Z
UID:553-1769954400-1769961600@web.bountifulblossom.org
SUMMARY:Community Circle
DESCRIPTION:What Is the Community Circle?\nThe Community Circle by Bountiful Blossom\, in collaboration with the Fremont Main Library\, is a warm and inclusive gathering for families and individuals in the disability and inclusion community. Together\, we create a welcoming space where people of all ages and abilities can create\, learn\, and connect through joyful\, hands-on experiences. \nEach month\, our sessions feature arts and crafts projects\, sensory play\, and board game and circle time that bring smiles and creativity to everyone involved. Some of our past activities include: \nThrough this partnership\, our goal is to provide a safe\, inclusive\, and sensory-friendly environment where participants can express themselves\, build confidence\, and enjoy meaningful social connections. Every session is free of charge and open to all families and individuals who wish to be part of a caring community. \nJoin us at the Community Circle — where creativity blossoms\, friendships grow\, and everyone belongs. 🌼
URL:https://web.bountifulblossom.org/event/community-circle-4/
LOCATION:Fremont Main Library – Fukaya Room B\, 2400 Stevenson Blvd\,\, Fremont\, CA\, 94538\, United States
CATEGORIES:Community Circle
ATTACH;FMTTYPE=image/jpeg:https://web.bountifulblossom.org/wp-content/uploads/2025/02/2630_0.jpg
ORGANIZER;CN="Bountiful Blossom":MAILTO:outreach@bountifulblossom.org
END:VEVENT
BEGIN:VEVENT
DTSTART;TZID=America/Los_Angeles:20260301T140000
DTEND;TZID=America/Los_Angeles:20260301T160000
DTSTAMP:20260420T223047
CREATED:20251027T021644Z
LAST-MODIFIED:20251208T031945Z
UID:555-1772373600-1772380800@web.bountifulblossom.org
SUMMARY:Community Circle
DESCRIPTION:What Is the Community Circle?\nThe Community Circle by Bountiful Blossom\, in collaboration with the Fremont Main Library\, is a warm and inclusive gathering for families and individuals in the disability and inclusion community. Together\, we create a welcoming space where people of all ages and abilities can create\, learn\, and connect through joyful\, hands-on experiences. \nEach month\, our sessions feature arts and crafts projects\, sensory play\, and board game and circle time that bring smiles and creativity to everyone involved. Some of our past activities include: \nThrough this partnership\, our goal is to provide a safe\, inclusive\, and sensory-friendly environment where participants can express themselves\, build confidence\, and enjoy meaningful social connections. Every session is free of charge and open to all families and individuals who wish to be part of a caring community. \nJoin us at the Community Circle — where creativity blossoms\, friendships grow\, and everyone belongs. 🌼
URL:https://web.bountifulblossom.org/event/community-circle-5/
LOCATION:Fremont Main Library – Fukaya Room B\, 2400 Stevenson Blvd\,\, Fremont\, CA\, 94538\, United States
CATEGORIES:Community Circle
ATTACH;FMTTYPE=image/jpeg:https://web.bountifulblossom.org/wp-content/uploads/2025/10/499901756_122238040388022256_8227655019055094882_n.jpg
ORGANIZER;CN="Bountiful Blossom":MAILTO:outreach@bountifulblossom.org
END:VEVENT
BEGIN:VEVENT
DTSTART;TZID=America/Los_Angeles:20260321T100000
DTEND;TZID=America/Los_Angeles:20260321T120000
DTSTAMP:20260420T223047
CREATED:20251029T013426Z
LAST-MODIFIED:20260216T051524Z
UID:868-1774087200-1774094400@web.bountifulblossom.org
SUMMARY:IEP & 504 Webinar (Free) — March 21\, 2026 | 10:00 AM
DESCRIPTION:Bountiful Blossom invites families to an informative online webinar focused on understanding the IEP and 504 process and learning how to participate confidently in school meetings. \nGuest Speaker: Carol CohenFamily Empowerment Center Manager\, Family Resource NavigatorsAn IEP & 504 expert supporting families since 2006\, and a parent advocate with lived experience navigating special education and disability services. \nTopics include: \n\nHow IEP and 504 eligibility is determined\nUnderstanding assessments and evaluation results\nKey components of an effective IEP or 504 plan\nWhat options are available when additional support is needed\nTips for participating confidently in school meetings\n\nHow to Register: Click here to register Questions? Contact outreach@bountifulblossom.orgMore info: www.bountifulblossom.org \nBountiful Blossom is a 501(c)(3) nonprofit organization.
URL:https://web.bountifulblossom.org/event/family-navigator-iep-504/
LOCATION:Online
ORGANIZER;CN="Bountiful Blossom":MAILTO:outreach@bountifulblossom.org
END:VEVENT
BEGIN:VEVENT
DTSTART;TZID=America/Los_Angeles:20260404T100000
DTEND;TZID=America/Los_Angeles:20260404T120000
DTSTAMP:20260420T223047
CREATED:20251029T013526Z
LAST-MODIFIED:20260302T050547Z
UID:870-1775296800-1775304000@web.bountifulblossom.org
SUMMARY:Bountiful Blossom 2026 Easter Egg Hunt
DESCRIPTION:April 4\, 2026 | Fremont Central Park | 10:00 AM – 12:00 PM \nvery spring\, something special happens when families gather outdoors\, children run across open grass with bright baskets in hand\, and laughter fills the air. Our Easter Egg Hunt is not just an event — it is a community moment. \n  \n\n\n\n\n\n\n\n\n\nThis year on April 4th\, Bountiful Blossom will once again host our annual Easter Egg Hunt at Fremont Central Park\, building on the joy and connection we experienced last year. \nFrom 10:00 AM to 12:00 PM\, families may arrive at any time within that window. Instead of one single start time\, we run rolling activity sessions every 30 minutes\, allowing children to participate at their own pace. \nThis design is intentional. It supports: \n\n\n\n\n\nChildren who need transition time\nFamilies who prefer shorter visits\nParticipants who benefit from predictable structure\n\n\n\n\n\n\nWhat Families Can Expect\n\n\n\n\n\nWelcome & Check-In.\nColoring Station\nFace Painting\nBubble Play\nSpring Photo Booth\nEgg Hunt & Light Games\n\n\n\n\n\nWhy This Event Matters\nAt Bountiful Blossom\, our principles are trust\, respect\, encouragement\, and motivation. \nOur Easter event is not just about collecting eggs. It is about: \n\n\n\n\n\nHelping children feel confident in group settings\nGiving parents a supportive space to connect\nOffering youth volunteers real leadership experience\nBuilding an inclusive local community\n\n\n\n\n\nLast year\, many families stayed longer than planned — not because they had to\, but because they felt welcomed. \nJoin Us\nIf you are looking for a structured yet relaxed spring event where your child can participate comfortably\, we invite you to register and join us. \nBring a basket. Bring your family.We look forward to welcoming you on April 4th.
URL:https://web.bountifulblossom.org/event/easter-egg-hunt/
LOCATION:Central Lake/ Lake Elizabeth\, 40000 Paseo Padre Parkway\, Fremont\, CA\, 94538\, United States
ORGANIZER;CN="Bountiful Blossom":MAILTO:outreach@bountifulblossom.org
END:VEVENT
BEGIN:VEVENT
DTSTART;TZID=America/Los_Angeles:20260419T140000
DTEND;TZID=America/Los_Angeles:20260419T160000
DTSTAMP:20260420T223047
CREATED:20251027T021838Z
LAST-MODIFIED:20251208T032014Z
UID:558-1776607200-1776614400@web.bountifulblossom.org
SUMMARY:Community Circle
DESCRIPTION:What Is the Community Circle?\nThe Community Circle by Bountiful Blossom\, in collaboration with the Fremont Main Library\, is a warm and inclusive gathering for families and individuals in the disability and inclusion community. Together\, we create a welcoming space where people of all ages and abilities can create\, learn\, and connect through joyful\, hands-on experiences. \nEach month\, our sessions feature arts and crafts projects\, sensory play\, and board game and circle time that bring smiles and creativity to everyone involved. Some of our past activities include: \nThrough this partnership\, our goal is to provide a safe\, inclusive\, and sensory-friendly environment where participants can express themselves\, build confidence\, and enjoy meaningful social connections. Every session is free of charge and open to all families and individuals who wish to be part of a caring community. \nJoin us at the Community Circle — where creativity blossoms\, friendships grow\, and everyone belongs. 🌼
URL:https://web.bountifulblossom.org/event/community-circle-6/
LOCATION:Fremont Main Library – Fukaya Room B\, 2400 Stevenson Blvd\,\, Fremont\, CA\, 94538\, United States
CATEGORIES:Community Circle
ORGANIZER;CN="Bountiful Blossom":MAILTO:outreach@bountifulblossom.org
END:VEVENT
BEGIN:VEVENT
DTSTART;TZID=America/Los_Angeles:20260425T100000
DTEND;TZID=America/Los_Angeles:20260425T120000
DTSTAMP:20260420T223047
CREATED:20260201T231849Z
LAST-MODIFIED:20260216T052003Z
UID:1367-1777111200-1777118400@web.bountifulblossom.org
SUMMARY:Stay Cool\, Stay Connected: Helping Kids Through Challenging Behaviors Free Webinar
DESCRIPTION:Join Bountiful Blossom for a supportive\, practical webinar designed for parents and caregivers who want tools they can use right away—especially during tough moments. \nDate April 25\, 2026 (Friday)Time:10:00 AM PTGuest Speaker: Amanda Duclos\, Board Certified Behavior Analyst (BCBA) (Co-founder of RadEd Collective) \nIn this webinar\, you will learn: \n\nWhy challenging behaviors happen\nStrategies to reduce stress and handle difficult situations\nHow to stay connected with your child during behavioral challenges\nTips for positive routines & emotional regulation\nHow to collaborate with teachers and service providers\n\nRegister now: visit https://forms.gle/Hpi4YMv29FBjpSf7AQuestions: outreach@bountifulblossom.org \nBountiful Blossom is a 501(c)(3) nonprofit organization.
URL:https://web.bountifulblossom.org/event/behavior-support-webinar/
LOCATION:Online
ORGANIZER;CN="Bountiful Blossom":MAILTO:outreach@bountifulblossom.org
END:VEVENT
BEGIN:VEVENT
DTSTART;TZID=America/Los_Angeles:20260510T140000
DTEND;TZID=America/Los_Angeles:20260510T160000
DTSTAMP:20260420T223047
CREATED:20251027T022217Z
LAST-MODIFIED:20251208T032044Z
UID:561-1778421600-1778428800@web.bountifulblossom.org
SUMMARY:Community Circle
DESCRIPTION:What Is the Community Circle?\nThe Community Circle by Bountiful Blossom\, in collaboration with the Fremont Main Library\, is a warm and inclusive gathering for families and individuals in the disability and inclusion community. Together\, we create a welcoming space where people of all ages and abilities can create\, learn\, and connect through joyful\, hands-on experiences. \nEach month\, our sessions feature arts and crafts projects\, sensory play\, and board game and circle time that bring smiles and creativity to everyone involved. Some of our past activities include: \nThrough this partnership\, our goal is to provide a safe\, inclusive\, and sensory-friendly environment where participants can express themselves\, build confidence\, and enjoy meaningful social connections. Every session is free of charge and open to all families and individuals who wish to be part of a caring community. \nJoin us at the Community Circle — where creativity blossoms\, friendships grow\, and everyone belongs. 🌼
URL:https://web.bountifulblossom.org/event/community-circle-7/
LOCATION:Fremont Main Library – Fukaya Room B\, 2400 Stevenson Blvd\,\, Fremont\, CA\, 94538\, United States
CATEGORIES:Community Circle
ORGANIZER;CN="Bountiful Blossom":MAILTO:outreach@bountifulblossom.org
END:VEVENT
BEGIN:VEVENT
DTSTART;TZID=America/Los_Angeles:20260614T140000
DTEND;TZID=America/Los_Angeles:20260614T160000
DTSTAMP:20260420T223047
CREATED:20251027T022316Z
LAST-MODIFIED:20251208T032112Z
UID:563-1781445600-1781452800@web.bountifulblossom.org
SUMMARY:Community Circle
DESCRIPTION:What Is the Community Circle?\nThe Community Circle by Bountiful Blossom\, in collaboration with the Fremont Main Library\, is a warm and inclusive gathering for families and individuals in the disability and inclusion community. Together\, we create a welcoming space where people of all ages and abilities can create\, learn\, and connect through joyful\, hands-on experiences. \nEach month\, our sessions feature arts and crafts projects\, sensory play\, and board game and circle time that bring smiles and creativity to everyone involved. Some of our past activities include: \nThrough this partnership\, our goal is to provide a safe\, inclusive\, and sensory-friendly environment where participants can express themselves\, build confidence\, and enjoy meaningful social connections. Every session is free of charge and open to all families and individuals who wish to be part of a caring community. \nJoin us at the Community Circle — where creativity blossoms\, friendships grow\, and everyone belongs. 🌼
URL:https://web.bountifulblossom.org/event/community-circle-8/
LOCATION:Fremont Main Library – Fukaya Room B\, 2400 Stevenson Blvd\,\, Fremont\, CA\, 94538\, United States
CATEGORIES:Community Circle
ORGANIZER;CN="Bountiful Blossom":MAILTO:outreach@bountifulblossom.org
END:VEVENT
BEGIN:VEVENT
DTSTART;TZID=America/Los_Angeles:20260711T100000
DTEND;TZID=America/Los_Angeles:20260711T120000
DTSTAMP:20260420T223047
CREATED:20251029T013614Z
LAST-MODIFIED:20251029T013614Z
UID:873-1783764000-1783771200@web.bountifulblossom.org
SUMMARY:Summer Festival
DESCRIPTION:
URL:https://web.bountifulblossom.org/event/summer-festival/
LOCATION:TBA
ORGANIZER;CN="Bountiful Blossom":MAILTO:outreach@bountifulblossom.org
END:VEVENT
BEGIN:VEVENT
DTSTART;TZID=America/Los_Angeles:20260719T140000
DTEND;TZID=America/Los_Angeles:20260719T160000
DTSTAMP:20260420T223047
CREATED:20251027T022418Z
LAST-MODIFIED:20251027T022418Z
UID:565-1784469600-1784476800@web.bountifulblossom.org
SUMMARY:Community Circle
DESCRIPTION:What Is the Community Circle?\nThe Community Circle by Bountiful Blossom\, in collaboration with the Fremont Main Library\, is a warm and inclusive gathering for families and individuals in the disability and inclusion community. Together\, we create a welcoming space where people of all ages and abilities can create\, learn\, and connect through joyful\, hands-on experiences. \nEach month\, our sessions feature arts and crafts projects\, sensory play\, and board game and circle time that bring smiles and creativity to everyone involved. Some of our past activities include: \nThrough this partnership\, our goal is to provide a safe\, inclusive\, and sensory-friendly environment where participants can express themselves\, build confidence\, and enjoy meaningful social connections. Every session is free of charge and open to all families and individuals who wish to be part of a caring community. \nJoin us at the Community Circle — where creativity blossoms\, friendships grow\, and everyone belongs. 🌼
URL:https://web.bountifulblossom.org/event/community-circle-9/
LOCATION:Fremont Main Library – Fukaya Room B\, 2400 Stevenson Blvd\,\, Fremont\, CA\, 94538\, United States
CATEGORIES:Community Circle
ORGANIZER;CN="Bountiful Blossom":MAILTO:outreach@bountifulblossom.org
END:VEVENT
BEGIN:VEVENT
DTSTART;TZID=America/Los_Angeles:20260816T140000
DTEND;TZID=America/Los_Angeles:20260816T160000
DTSTAMP:20260420T223047
CREATED:20251027T022517Z
LAST-MODIFIED:20251027T022517Z
UID:567-1786888800-1786896000@web.bountifulblossom.org
SUMMARY:Community Circle
DESCRIPTION:What Is the Community Circle?\nThe Community Circle by Bountiful Blossom\, in collaboration with the Fremont Main Library\, is a warm and inclusive gathering for families and individuals in the disability and inclusion community. Together\, we create a welcoming space where people of all ages and abilities can create\, learn\, and connect through joyful\, hands-on experiences. \nEach month\, our sessions feature arts and crafts projects\, sensory play\, and board game and circle time that bring smiles and creativity to everyone involved. Some of our past activities include: \nThrough this partnership\, our goal is to provide a safe\, inclusive\, and sensory-friendly environment where participants can express themselves\, build confidence\, and enjoy meaningful social connections. Every session is free of charge and open to all families and individuals who wish to be part of a caring community. \nJoin us at the Community Circle — where creativity blossoms\, friendships grow\, and everyone belongs. 🌼
URL:https://web.bountifulblossom.org/event/community-circle-10/
LOCATION:Fremont Main Library – Fukaya Room B\, 2400 Stevenson Blvd\,\, Fremont\, CA\, 94538\, United States
CATEGORIES:Community Circle
ORGANIZER;CN="Bountiful Blossom":MAILTO:outreach@bountifulblossom.org
END:VEVENT
BEGIN:VEVENT
DTSTART;TZID=America/Los_Angeles:20261024T153000
DTEND;TZID=America/Los_Angeles:20261024T173000
DTSTAMP:20260420T223047
CREATED:20251029T013704Z
LAST-MODIFIED:20251029T013704Z
UID:875-1792855800-1792863000@web.bountifulblossom.org
SUMMARY:Trunk or Treat
DESCRIPTION:
URL:https://web.bountifulblossom.org/event/trunk-or-treat/
LOCATION:TBA
ORGANIZER;CN="Bountiful Blossom":MAILTO:outreach@bountifulblossom.org
END:VEVENT
END:VCALENDAR