BEGIN:VCALENDAR
VERSION:2.0
PRODID:-//Bountiful Blossom - ECPv6.15.20//NONSGML v1.0//EN
CALSCALE:GREGORIAN
METHOD:PUBLISH
X-ORIGINAL-URL:https://web.bountifulblossom.org
X-WR-CALDESC:Events for Bountiful Blossom
REFRESH-INTERVAL;VALUE=DURATION:PT1H
X-Robots-Tag:noindex
X-PUBLISHED-TTL:PT1H
BEGIN:VTIMEZONE
TZID:America/Los_Angeles
BEGIN:DAYLIGHT
TZOFFSETFROM:-0800
TZOFFSETTO:-0700
TZNAME:PDT
DTSTART:20250309T100000
END:DAYLIGHT
BEGIN:STANDARD
TZOFFSETFROM:-0700
TZOFFSETTO:-0800
TZNAME:PST
DTSTART:20251102T090000
END:STANDARD
BEGIN:DAYLIGHT
TZOFFSETFROM:-0800
TZOFFSETTO:-0700
TZNAME:PDT
DTSTART:20260308T100000
END:DAYLIGHT
BEGIN:STANDARD
TZOFFSETFROM:-0700
TZOFFSETTO:-0800
TZNAME:PST
DTSTART:20261101T090000
END:STANDARD
BEGIN:DAYLIGHT
TZOFFSETFROM:-0800
TZOFFSETTO:-0700
TZNAME:PDT
DTSTART:20270314T100000
END:DAYLIGHT
BEGIN:STANDARD
TZOFFSETFROM:-0700
TZOFFSETTO:-0800
TZNAME:PST
DTSTART:20271107T090000
END:STANDARD
END:VTIMEZONE
BEGIN:VEVENT
DTSTART;TZID=America/Los_Angeles:20260321T100000
DTEND;TZID=America/Los_Angeles:20260321T120000
DTSTAMP:20260420T105940
CREATED:20251029T013426Z
LAST-MODIFIED:20260216T051524Z
UID:868-1774087200-1774094400@web.bountifulblossom.org
SUMMARY:IEP & 504 Webinar (Free) — March 21\, 2026 | 10:00 AM
DESCRIPTION:Bountiful Blossom invites families to an informative online webinar focused on understanding the IEP and 504 process and learning how to participate confidently in school meetings. \nGuest Speaker: Carol CohenFamily Empowerment Center Manager\, Family Resource NavigatorsAn IEP & 504 expert supporting families since 2006\, and a parent advocate with lived experience navigating special education and disability services. \nTopics include: \n\nHow IEP and 504 eligibility is determined\nUnderstanding assessments and evaluation results\nKey components of an effective IEP or 504 plan\nWhat options are available when additional support is needed\nTips for participating confidently in school meetings\n\nHow to Register: Click here to register Questions? Contact outreach@bountifulblossom.orgMore info: www.bountifulblossom.org \nBountiful Blossom is a 501(c)(3) nonprofit organization.
URL:https://web.bountifulblossom.org/event/family-navigator-iep-504/
LOCATION:Online
ORGANIZER;CN="Bountiful Blossom":MAILTO:outreach@bountifulblossom.org
END:VEVENT
END:VCALENDAR