BEGIN:VCALENDAR
VERSION:2.0
PRODID:-//Bountiful Blossom - ECPv6.15.20//NONSGML v1.0//EN
CALSCALE:GREGORIAN
METHOD:PUBLISH
X-ORIGINAL-URL:https://web.bountifulblossom.org
X-WR-CALDESC:Events for Bountiful Blossom
REFRESH-INTERVAL;VALUE=DURATION:PT1H
X-Robots-Tag:noindex
X-PUBLISHED-TTL:PT1H
BEGIN:VTIMEZONE
TZID:America/Los_Angeles
BEGIN:DAYLIGHT
TZOFFSETFROM:-0800
TZOFFSETTO:-0700
TZNAME:PDT
DTSTART:20240310T100000
END:DAYLIGHT
BEGIN:STANDARD
TZOFFSETFROM:-0700
TZOFFSETTO:-0800
TZNAME:PST
DTSTART:20241103T090000
END:STANDARD
BEGIN:DAYLIGHT
TZOFFSETFROM:-0800
TZOFFSETTO:-0700
TZNAME:PDT
DTSTART:20250309T100000
END:DAYLIGHT
BEGIN:STANDARD
TZOFFSETFROM:-0700
TZOFFSETTO:-0800
TZNAME:PST
DTSTART:20251102T090000
END:STANDARD
BEGIN:DAYLIGHT
TZOFFSETFROM:-0800
TZOFFSETTO:-0700
TZNAME:PDT
DTSTART:20260308T100000
END:DAYLIGHT
BEGIN:STANDARD
TZOFFSETFROM:-0700
TZOFFSETTO:-0800
TZNAME:PST
DTSTART:20261101T090000
END:STANDARD
END:VTIMEZONE
BEGIN:VEVENT
DTSTART;TZID=America/Los_Angeles:20251214T140000
DTEND;TZID=America/Los_Angeles:20251214T160000
DTSTAMP:20260420T154954
CREATED:20251027T015132Z
LAST-MODIFIED:20251027T015833Z
UID:542-1765720800-1765728000@web.bountifulblossom.org
SUMMARY:Community Circle
DESCRIPTION:What Is the Community Circle?\nThe Community Circle by Bountiful Blossom\, in collaboration with the Fremont Main Library\, is a warm and inclusive gathering for families and individuals in the disability and inclusion community. Together\, we create a welcoming space where people of all ages and abilities can create\, learn\, and connect through joyful\, hands-on experiences. \nEach month\, our sessions feature arts and crafts projects\, sensory play\, and board game and circle time that bring smiles and creativity to everyone involved. Some of our past activities include: \nThrough this partnership\, our goal is to provide a safe\, inclusive\, and sensory-friendly environment where participants can express themselves\, build confidence\, and enjoy meaningful social connections. Every session is free of charge and open to all families and individuals who wish to be part of a caring community. \nJoin us at the Community Circle — where creativity blossoms\, friendships grow\, and everyone belongs. 🌼 \n 
URL:https://web.bountifulblossom.org/event/community-circle-3/
LOCATION:Fremont Main Library – Fukaya Room B\, 2400 Stevenson Blvd\,\, Fremont\, CA\, 94538\, United States
CATEGORIES:Community Circle
ORGANIZER;CN="Bountiful Blossom":MAILTO:outreach@bountifulblossom.org
END:VEVENT
END:VCALENDAR