BEGIN:VCALENDAR
VERSION:2.0
PRODID:-//Bountiful Blossom - ECPv6.15.20//NONSGML v1.0//EN
CALSCALE:GREGORIAN
METHOD:PUBLISH
X-ORIGINAL-URL:https://web.bountifulblossom.org
X-WR-CALDESC:Events for Bountiful Blossom
REFRESH-INTERVAL;VALUE=DURATION:PT1H
X-Robots-Tag:noindex
X-PUBLISHED-TTL:PT1H
BEGIN:VTIMEZONE
TZID:America/Los_Angeles
BEGIN:DAYLIGHT
TZOFFSETFROM:-0800
TZOFFSETTO:-0700
TZNAME:PDT
DTSTART:20240310T100000
END:DAYLIGHT
BEGIN:STANDARD
TZOFFSETFROM:-0700
TZOFFSETTO:-0800
TZNAME:PST
DTSTART:20241103T090000
END:STANDARD
BEGIN:DAYLIGHT
TZOFFSETFROM:-0800
TZOFFSETTO:-0700
TZNAME:PDT
DTSTART:20250309T100000
END:DAYLIGHT
BEGIN:STANDARD
TZOFFSETFROM:-0700
TZOFFSETTO:-0800
TZNAME:PST
DTSTART:20251102T090000
END:STANDARD
BEGIN:DAYLIGHT
TZOFFSETFROM:-0800
TZOFFSETTO:-0700
TZNAME:PDT
DTSTART:20260308T100000
END:DAYLIGHT
BEGIN:STANDARD
TZOFFSETFROM:-0700
TZOFFSETTO:-0800
TZNAME:PST
DTSTART:20261101T090000
END:STANDARD
END:VTIMEZONE
BEGIN:VEVENT
DTSTART;TZID=America/Los_Angeles:20251213T143000
DTEND;TZID=America/Los_Angeles:20251213T160000
DTSTAMP:20260420T154925
CREATED:20251029T013155Z
LAST-MODIFIED:20251106T052158Z
UID:861-1765636200-1765641600@web.bountifulblossom.org
SUMMARY:How to deal with  my child's behavior
DESCRIPTION:
URL:https://web.bountifulblossom.org/event/mandarin-forum-with-4c-provider/
LOCATION:Online
ORGANIZER;CN="Bountiful Blossom":MAILTO:outreach@bountifulblossom.org
END:VEVENT
END:VCALENDAR